BEGIN:VCALENDAR
VERSION:2.0
PRODID:-//Roebuck - ECPv6.15.20//NONSGML v1.0//EN
CALSCALE:GREGORIAN
METHOD:PUBLISH
X-ORIGINAL-URL:https://www.roebuckestates.co.uk
X-WR-CALDESC:Events for Roebuck
REFRESH-INTERVAL;VALUE=DURATION:PT1H
X-Robots-Tag:noindex
X-PUBLISHED-TTL:PT1H
BEGIN:VTIMEZONE
TZID:Europe/London
BEGIN:DAYLIGHT
TZOFFSETFROM:+0000
TZOFFSETTO:+0100
TZNAME:BST
DTSTART:20250330T010000
END:DAYLIGHT
BEGIN:STANDARD
TZOFFSETFROM:+0100
TZOFFSETTO:+0000
TZNAME:GMT
DTSTART:20251026T010000
END:STANDARD
BEGIN:DAYLIGHT
TZOFFSETFROM:+0000
TZOFFSETTO:+0100
TZNAME:BST
DTSTART:20260329T010000
END:DAYLIGHT
BEGIN:STANDARD
TZOFFSETFROM:+0100
TZOFFSETTO:+0000
TZNAME:GMT
DTSTART:20261025T010000
END:STANDARD
BEGIN:DAYLIGHT
TZOFFSETFROM:+0000
TZOFFSETTO:+0100
TZNAME:BST
DTSTART:20270328T010000
END:DAYLIGHT
BEGIN:STANDARD
TZOFFSETFROM:+0100
TZOFFSETTO:+0000
TZNAME:GMT
DTSTART:20271031T010000
END:STANDARD
END:VTIMEZONE
BEGIN:VEVENT
DTSTART;TZID=Europe/London:20260627T140000
DTEND;TZID=Europe/London:20260627T180000
DTSTAMP:20260419T140817
CREATED:20260325T154739Z
LAST-MODIFIED:20260325T154837Z
UID:39699-1782568800-1782583200@www.roebuckestates.co.uk
SUMMARY:Music in the Vines
DESCRIPTION:Music in the VinesSaturday 27th June \nJoin us for a relaxed Saturday afternoon at our stunning sparkling wine tipi situated at the top of our Roebuck vineyard to celebrate English Wine Week. \nWith live music amongst the vines\, complimentary grazing snacks and a short\, guided tour of our beautiful vineyard\, indulge in a tranquil summer afternoon in the vines\, whilst savouring a glass of our award-winning vintage sparkling wines. \n  \n£50pp  \n	\n	\n\n		\n			\n\n				\n					\n													\n								Date\n								\n									Choose a dateSaturday 27th June: 2pm - 6pmClear								\n							\n											\n				\n\n			\n\n			\n				\n					\n						-\n						\n		Music in the Vines quantity\n	\n	\n						+\n					\n				\n			\n		\n\n\n		\n		\n			\n	\n	\n\n	\n	Add to basket
URL:https://www.roebuckestates.co.uk/roebuck-event/music-in-the-vines-39699/
LOCATION:ROEBUCK ESTATES\, UPPERTON FARM\, TILLINGTON\, PETWORTH\, WEST SUSSEX\, GU28 0RD\, United Kingdom
CATEGORIES:Special Events
ORGANIZER;CN="ROEBUCK ESTATES":MAILTO:hello@roebuckestates.co.uk
END:VEVENT
BEGIN:VEVENT
DTSTART;TZID=Europe/London:20260808T123000
DTEND;TZID=Europe/London:20260808T170000
DTSTAMP:20260419T140817
CREATED:20260325T133906Z
LAST-MODIFIED:20260325T134040Z
UID:39693-1786192200-1786208400@www.roebuckestates.co.uk
SUMMARY:Feast in the Vines
DESCRIPTION:Music in the VinesSaturday 27th June \nJoin us for a relaxed Saturday afternoon at our stunning sparkling wine tipi situated at the top of our Roebuck vineyard to celebrate English Wine Week. \nWith live music amongst the vines\, complimentary grazing snacks and a short\, guided tour of our beautiful vineyard\, indulge in a tranquil summer afternoon in the vines\, whilst savouring a glass of our award-winning vintage sparkling wines. \n  \n£50pp  \n	\n	\n\n		\n			\n\n				\n					\n													\n								Date\n								\n									Choose a dateSaturday 27th June: 2pm - 6pmClear								\n							\n											\n				\n\n			\n\n			\n				\n					\n						-\n						\n		Music in the Vines quantity\n	\n	\n						+\n					\n				\n			\n		\n\n\n		\n		\n			\n	\n	\n\n	\n	Add to basket
URL:https://www.roebuckestates.co.uk/roebuck-event/feast-in-the-vines-39693/
LOCATION:ROEBUCK ESTATES\, UPPERTON FARM\, TILLINGTON\, PETWORTH\, WEST SUSSEX\, GU28 0RD\, United Kingdom
CATEGORIES:Special Events
ORGANIZER;CN="ROEBUCK ESTATES":MAILTO:hello@roebuckestates.co.uk
END:VEVENT
END:VCALENDAR